BEGIN:VCALENDAR
VERSION:2.0
PRODID:-//Ematech.sk - ECPv6.15.17.1//NONSGML v1.0//EN
CALSCALE:GREGORIAN
METHOD:PUBLISH
X-WR-CALNAME:Ematech.sk
X-ORIGINAL-URL:https://www.ematech.sk
X-WR-CALDESC:Events for Ematech.sk
REFRESH-INTERVAL;VALUE=DURATION:PT1H
X-Robots-Tag:noindex
X-PUBLISHED-TTL:PT1H
BEGIN:VTIMEZONE
TZID:Europe/Bratislava
BEGIN:DAYLIGHT
TZOFFSETFROM:+0100
TZOFFSETTO:+0200
TZNAME:CEST
DTSTART:20220327T010000
END:DAYLIGHT
BEGIN:STANDARD
TZOFFSETFROM:+0200
TZOFFSETTO:+0100
TZNAME:CET
DTSTART:20221030T010000
END:STANDARD
BEGIN:DAYLIGHT
TZOFFSETFROM:+0100
TZOFFSETTO:+0200
TZNAME:CEST
DTSTART:20230326T010000
END:DAYLIGHT
BEGIN:STANDARD
TZOFFSETFROM:+0200
TZOFFSETTO:+0100
TZNAME:CET
DTSTART:20231029T010000
END:STANDARD
BEGIN:DAYLIGHT
TZOFFSETFROM:+0100
TZOFFSETTO:+0200
TZNAME:CEST
DTSTART:20240331T010000
END:DAYLIGHT
BEGIN:STANDARD
TZOFFSETFROM:+0200
TZOFFSETTO:+0100
TZNAME:CET
DTSTART:20241027T010000
END:STANDARD
BEGIN:DAYLIGHT
TZOFFSETFROM:+0100
TZOFFSETTO:+0200
TZNAME:CEST
DTSTART:20250330T010000
END:DAYLIGHT
BEGIN:STANDARD
TZOFFSETFROM:+0200
TZOFFSETTO:+0100
TZNAME:CET
DTSTART:20251026T010000
END:STANDARD
BEGIN:DAYLIGHT
TZOFFSETFROM:+0100
TZOFFSETTO:+0200
TZNAME:CEST
DTSTART:20260329T010000
END:DAYLIGHT
BEGIN:STANDARD
TZOFFSETFROM:+0200
TZOFFSETTO:+0100
TZNAME:CET
DTSTART:20261025T010000
END:STANDARD
END:VTIMEZONE
BEGIN:VEVENT
DTSTART;TZID=Europe/Bratislava:20250925T100000
DTEND;TZID=Europe/Bratislava:20250925T140000
DTSTAMP:20260425T151912
CREATED:20250115T122230Z
LAST-MODIFIED:20250925T163916Z
UID:14432-1758794400-1758808800@www.ematech.sk
SUMMARY:Deň poľa kukurice
DESCRIPTION:Tradičný deň poľa kukurice a jesenných prác. \nZdruženie AGRION zabezpečuje výstavu a ukážky poľnohospodárskej techniky. \nTešíme sa na stretnutie s vami.
URL:https://www.ematech.sk/udalosti/den-pola-kukurice-3
LOCATION:čeľovce\, Družstevná 3-1\, Čeľovce\, 07617
ORGANIZER;CN="AGRION":MAILTO:agrion@agrion.sk
END:VEVENT
BEGIN:VEVENT
DTSTART;TZID=Europe/Bratislava:20250923T100000
DTEND;TZID=Europe/Bratislava:20250923T130000
DTSTAMP:20260425T151912
CREATED:20250925T164312Z
LAST-MODIFIED:20250925T164401Z
UID:17996-1758621600-1758632400@www.ematech.sk
SUMMARY:Jesenný deň poľa
DESCRIPTION:Milí priatelia\, srdečne vás pozývame na jesenný deň poľa pod Tatry! Vidíme sa v utorok 23.09.2025 na pozemkoch Zemedar s.r.o. v Poprade.
URL:https://www.ematech.sk/udalosti/jesenny-den-pola
LOCATION:Poprad-Stráže\, Poprad-Stráže
END:VEVENT
BEGIN:VEVENT
DTSTART;TZID=Europe/Bratislava:20250910T090000
DTEND;TZID=Europe/Bratislava:20250910T140000
DTSTAMP:20260425T151912
CREATED:20250826T135125Z
LAST-MODIFIED:20250826T135125Z
UID:17612-1757494800-1757512800@www.ematech.sk
SUMMARY:Slovenský deň pôdy
DESCRIPTION:
URL:https://www.ematech.sk/udalosti/slovensky-den-pody
LOCATION:PD Hôrka nad Váhom\, Hôrka nad Váhom 302\, Hôrka nad Váhom\, 916 32\, Slovenská republika
END:VEVENT
BEGIN:VEVENT
DTSTART;TZID=Europe/Bratislava:20250903T090000
DTEND;TZID=Europe/Bratislava:20250907T180000
DTSTAMP:20260425T151912
CREATED:20250115T074650Z
LAST-MODIFIED:20250115T074650Z
UID:14426-1756890000-1757268000@www.ematech.sk
SUMMARY:AGROKOMPLEX
DESCRIPTION:Aj tento rok sa zúčasníme najväčšej poľnohospodárskej výstavy v našich končinách\, ktorá tento rok oslavuje jubilejných 50. rokov. Tešíme sa na vašu účasť a nechajte sa prekvapiť novinkami\, ktoré pre vás pripravujeme! \nVáš Ematech
URL:https://www.ematech.sk/udalosti/agrokomplex-2
LOCATION:Výstavisko Agrokomplex\, Výstavná 4\, Nitra\, 94901\, Slovenská republika
END:VEVENT
BEGIN:VEVENT
DTSTART;TZID=Europe/Bratislava:20250813T093000
DTEND;TZID=Europe/Bratislava:20250813T140000
DTSTAMP:20260425T151912
CREATED:20250724T084102Z
LAST-MODIFIED:20250731T134412Z
UID:17082-1755077400-1755093600@www.ematech.sk
SUMMARY:7. Praktický poľný deň
DESCRIPTION:Vážený priatelia a obchodný partneri\, spoločnosť EMATECH s.r.o. a Arnold Pereszlény Vás pozývajú na7. ročník Praktického poľného dňa vo Veľkých Ludinciach. Príďte sa pozrieť na naše stroje priamo v teréne a dozviedieť sa o nových trendoch v poľnohospodárstve 13. augusta. Začíname o 9:30!
URL:https://www.ematech.sk/udalosti/7-prakticky-polny-den
LOCATION:Veľké Ludince (okres Levice)\, Veľké Ludince\, 935 65\, Slovenská republika
END:VEVENT
BEGIN:VEVENT
DTSTART;TZID=Europe/Bratislava:20250603T090000
DTEND;TZID=Europe/Bratislava:20250604T170000
DTSTAMP:20260425T151912
CREATED:20250115T080438Z
LAST-MODIFIED:20250527T095302Z
UID:14428-1748941200-1749056400@www.ematech.sk
SUMMARY:Celoslovenské dni poľa
DESCRIPTION:Celoslovenské dni poľa s celoštátnou prehliadkou poľných pokusov odrôd poľnohospodárskych plodín\, ochrany a výživy rastlín\, poľnohospodárskej techniky a hospodárskych zvierat sa tento rok uskutočnia v Seliciach. Už od leta 2024 sa v spolupráci so spoločnosťou AGRO DIVÍZIA s.r.o. Selice pripravujú prezentačné parcelky a celú výstavnú plochu\, na ktorej sa predstavia najmodernejšie technológie pre poľnohospodársku výrobu. Tešíme sa na stretnutie v Seliciach. \nVáš Ematech
URL:https://www.ematech.sk/udalosti/celoslovenske-dni-pola-3
LOCATION:Selice\, Selice\, Slovenská republika
END:VEVENT
BEGIN:VEVENT
DTSTART;TZID=Europe/Bratislava:20250319T100000
DTEND;TZID=Europe/Bratislava:20250319T140000
DTSTAMP:20260425T151912
CREATED:20250312T115148Z
LAST-MODIFIED:20250312T115404Z
UID:14915-1742378400-1742392800@www.ematech.sk
SUMMARY:Jarný deň poľa
DESCRIPTION:Príďte sa zúčastniť nášho prvého dňa poľa v tomto roku. V stredu 19. marca o 10:00 vás pozývame do Nitrianskeho Hrádku\, kde vás čaká praktické predvádzanie najmodernejších poľnohospodárskych strojov pre jarné spracovanie pôdy. \nČo vás čaká? \nNa našej udalosti sa budeme venovať praktickým ukážkam s nasledujúcimi strojmi: \n\nRadličkový kyprič Euro-Tiller: Ideálny stroj pre prípravu pôdy na jarný výsev.\nDiskový podmietač DiscRoller XL: Efektívne spracovanie pôdy s maximálnou účinnosťou.\nValce TipRoller: Zabezpečí rovnomerné zhutnenie pôdy po oraní.\n\nOkrem týchto strojov budú k dispozícii aj ďalšie poľnohospodárske zariadenia od dánskeho výrobcu HE-VA\, ktoré si budete môcť pozrieť. \nPrečo sa zúčastniť? \n\nPraktické ukážky: Uvidíte stroje v akcii a môžete sa presvedčiť o ich výkonnosti.\nOdborné poradenstvo: Naši experti vám radi zodpovedajú všetky vaše otázky.\n\nPripravujeme pre vás neformálne prostredie\, kde sa môžete dozvedieť viac o moderných technológiách v poľnohospodárstve a získať cenné tipy na efektívne spracovanie pôdy. Tešíme sa na stretnutie s vami a spoločne strávaný deň. \nPre viac informácii kontaktujte nášho obchodného zástupcu Mariána Bábina +421 917 868 460 alebo juh@ematech.sk \nS pozdravom\, \nTím Ematech s.r.o.
URL:https://www.ematech.sk/udalosti/jarny-den-pola
LOCATION:Nitriansky Hrádok\, Hlavná 92/3669\, Nitriansky Hrádok\, 942 01\, Slovakia (Slovak Republic)
END:VEVENT
BEGIN:VEVENT
DTSTART;VALUE=DATE:20240926
DTEND;VALUE=DATE:20240927
DTSTAMP:20260425T151912
CREATED:20240403T120338Z
LAST-MODIFIED:20240403T123837Z
UID:11506-1727308800-1727395199@www.ematech.sk
SUMMARY:Deň poľa kukurice
DESCRIPTION:
URL:https://www.ematech.sk/udalosti/den-pola-kukurice-2
LOCATION:Selice\, Selice\, Slovenská republika
ORGANIZER;CN="AGRION":MAILTO:agrion@agrion.sk
END:VEVENT
BEGIN:VEVENT
DTSTART;TZID=Europe/Bratislava:20240815T090000
DTEND;TZID=Europe/Bratislava:20240818T180000
DTSTAMP:20260425T151912
CREATED:20240403T123512Z
LAST-MODIFIED:20240403T123602Z
UID:11517-1723712400-1724004000@www.ematech.sk
SUMMARY:Agrokomplex
DESCRIPTION:49. ročník medzinárodnej poľnohospodárskej a potravinárskej výstavy Agrokomplex
URL:https://www.ematech.sk/udalosti/agrokomplex
LOCATION:Výstavisko Agrokomplex\, Výstavná 4\, Nitra\, 94901\, Slovenská republika
END:VEVENT
BEGIN:VEVENT
DTSTART;TZID=Europe/Bratislava:20240808T080000
DTEND;TZID=Europe/Bratislava:20240808T170000
DTSTAMP:20260425T151912
CREATED:20240506T075958Z
LAST-MODIFIED:20240506T080646Z
UID:11664-1723104000-1723136400@www.ematech.sk
SUMMARY:Praktický poľný deň
DESCRIPTION:
URL:https://www.ematech.sk/udalosti/prakticky-polny-den
LOCATION:Selice\, Selice\, Slovenská republika
END:VEVENT
BEGIN:VEVENT
DTSTART;TZID=Europe/Bratislava:20240725T090000
DTEND;TZID=Europe/Bratislava:20240725T140000
DTSTAMP:20260425T151912
CREATED:20240429T073029Z
LAST-MODIFIED:20240703T130553Z
UID:11620-1721898000-1721916000@www.ematech.sk
SUMMARY:Deň praktikov Hôrka nad Váhom
DESCRIPTION:
URL:https://www.ematech.sk/udalosti/den-praktikov-horka-nad-vahom
LOCATION:PD Hôrka nad Váhom\, Hôrka nad Váhom 302\, Hôrka nad Váhom\, 916 32\, Slovenská republika
END:VEVENT
BEGIN:VEVENT
DTSTART;TZID=Europe/Bratislava:20240618T090000
DTEND;TZID=Europe/Bratislava:20240618T140000
DTSTAMP:20260425T151912
CREATED:20240429T083827Z
LAST-MODIFIED:20240429T090105Z
UID:11623-1718701200-1718719200@www.ematech.sk
SUMMARY:Deň poľa Legusem
DESCRIPTION:
URL:https://www.ematech.sk/udalosti/den-pola-legusem
END:VEVENT
BEGIN:VEVENT
DTSTART;TZID=Europe/Bratislava:20240604T090000
DTEND;TZID=Europe/Bratislava:20240605T160000
DTSTAMP:20260425T151912
CREATED:20240403T122715Z
LAST-MODIFIED:20240429T083322Z
UID:11509-1717491600-1717603200@www.ematech.sk
SUMMARY:Celoslovenské dni poľa
DESCRIPTION:Pozývame Vás na už XIII. ročník výstavy Celoslovenské dni poľa\, ktorá sa tento rok uskutoční vo Dvoroch nad Žitavou na pozemkoch spoločnosti ZAD Dvory nad Žitavou. \nV rámci odborného programu sa môžete tešiť na seminár  Presné poľnohospodárstvo – technológie reálne uplatnené v praxi na Slovensku\, ďalej na  moderované praktické ukážky technológií a systémov presného poľnohospodárstva\, ako každý rok priestor  dostane aj spoločné a individuálne predvádzanie strojov a techniky. \nNávštevníci si určite radí pozrú  660 odrodových parceliek a 310 parceliek s varantami ochrany a výživy rastlín od 55 spoločností. \nPripravená bude aj obľúbená súťaž v orbe konským záprahom a ukážky prác historickej techniky. \nSvoj priestor tu má aj prezentácia hospodárskych zvierat v spolupráci s chovateľskými zväzmi na Slovensku\, na výstave nájdete aj odborné školy s poľnohospodárskym zameraním. \nPodrobnosti a program nájdete tu  : Plagát CDP 2024
URL:https://www.ematech.sk/udalosti/celoslovenske-dni-pola-2
LOCATION:Dvory nad Žitavou
END:VEVENT
BEGIN:VEVENT
DTSTART;TZID=Europe/Bratislava:20240523T090000
DTEND;TZID=Europe/Bratislava:20240523T143000
DTSTAMP:20260425T151912
CREATED:20240403T120130Z
LAST-MODIFIED:20240429T110704Z
UID:11098-1716454800-1716474600@www.ematech.sk
SUMMARY:Deň poľa zameraný na krmoviny
DESCRIPTION:Pozývame Vás na tradičný Deň poľa krmovín\, ktorý organizuje združenie dodávateľov poľnohospodárskej techniky Agrion. Využite jedinečnú príležitosť vidieť naše stroje pri práci a dozvedieť sa\, prečo práve ony sú vhodné pre váš podnik. \nPROGRAM: \n9:30 – seminár realizovaný v spolupráci NPPC – VÚTPHP (VIP stan na mieste konania)\n11:00 – otvorenie Dňa poľa\n11:30 – začiatok predvádzania techniky\n14:00 – ťah cien pre návštevníkov\n14:30 – ukončenie podujatia \nTešíme na spoločné stretnutia.\nVáš tím Ematech.
URL:https://www.ematech.sk/udalosti/den-pola-zamerany-na-krmoviny
ORGANIZER;CN="AGRION":MAILTO:agrion@agrion.sk
END:VEVENT
BEGIN:VEVENT
DTSTART;TZID=Europe/Bratislava:20231005T090000
DTEND;TZID=Europe/Bratislava:20231005T150000
DTSTAMP:20260425T151912
CREATED:20230921T090503Z
LAST-MODIFIED:20230925T083134Z
UID:10384-1696496400-1696518000@www.ematech.sk
SUMMARY:Deň poľa kukurice
DESCRIPTION:Srdečne vás pozývame na 15. Deň poľa kukurice\, ktorý sa uskutoční dňa 05. 10. 2023 vo Vyšnom Žipove. Toto podujatie je určené pre všetkých\, ktorí majú záujem o techniku na spracovanie pôdy\, zber a pozberovú úpravu kukurice na zrno. Návštevníci si tiež budú môcť vypočuť odborný výklad a pozrieť 164 rôznych hybridov kukurice.
URL:https://www.ematech.sk/udalosti/den-pola-kukurice
ATTACH;FMTTYPE=image/jpeg:https://www.ematech.sk/wp-content/uploads/den-pola-kukurice-vysny-zipov-2023_page-0001-scaled.jpg
ORGANIZER;CN="AGRION":MAILTO:agrion@agrion.sk
END:VEVENT
BEGIN:VEVENT
DTSTART;TZID=Europe/Bratislava:20230920T090000
DTEND;TZID=Europe/Bratislava:20230920T150000
DTSTAMP:20260425T151912
CREATED:20230919T202939Z
LAST-MODIFIED:20230919T224249Z
UID:10308-1695200400-1695222000@www.ematech.sk
SUMMARY:11. deň praktikov
DESCRIPTION:
URL:https://www.ematech.sk/udalosti/11-den-praktikov
LOCATION:11. deň praktikov\, Poľnohospodárske družstvo\, Hôrka nad Váhom\, 916 32\, Slovenská republika
ATTACH;FMTTYPE=image/jpeg:https://www.ematech.sk/wp-content/uploads/Pozvanka_11-Den-praktikov_A5--e1695163357530.jpg
END:VEVENT
BEGIN:VEVENT
DTSTART;TZID=Europe/Bratislava:20230817T090000
DTEND;TZID=Europe/Bratislava:20230820T150000
DTSTAMP:20260425T151912
CREATED:20230919T224851Z
LAST-MODIFIED:20230919T224851Z
UID:10330-1692262800-1692543600@www.ematech.sk
SUMMARY:Agrokomplex 2023
DESCRIPTION:
URL:https://www.ematech.sk/udalosti/agrokomplex-2023
LOCATION:Výstavisko Agrokomplex\, Výstavná 4\, Nitra\, 94901\, Slovenská republika
ATTACH;FMTTYPE=image/png:https://www.ematech.sk/wp-content/uploads/Agrokomplex_FB-cover-copy.png
END:VEVENT
BEGIN:VEVENT
DTSTART;TZID=Europe/Bratislava:20230810T093000
DTEND;TZID=Europe/Bratislava:20230810T150000
DTSTAMP:20260425T151912
CREATED:20230919T224129Z
LAST-MODIFIED:20230919T224129Z
UID:10319-1691659800-1691679600@www.ematech.sk
SUMMARY:Praktický deň poľa
DESCRIPTION:
URL:https://www.ematech.sk/udalosti/prakticky-den-pola
LOCATION:Veľké Ludince (okres Levice)\, Veľké Ludince\, 935 65\, Slovenská republika
ATTACH;FMTTYPE=image/jpeg:https://www.ematech.sk/wp-content/uploads/Pozvanka_Velke_Ludince_A5-nahlad1-e1695163266985.jpg
END:VEVENT
BEGIN:VEVENT
DTSTART;TZID=Europe/Bratislava:20230606T090000
DTEND;TZID=Europe/Bratislava:20230607T160000
DTSTAMP:20260425T151912
CREATED:20230919T231656Z
LAST-MODIFIED:20230919T231656Z
UID:10342-1686042000-1686153600@www.ematech.sk
SUMMARY:Celoslovenské dni poľa
DESCRIPTION:
URL:https://www.ematech.sk/udalosti/celoslovenske-dni-pola
LOCATION:VPP SPU Oponice\, Oponice 1\, Oponice\, 956 14\, Slovenská republika
ATTACH;FMTTYPE=image/jpeg:https://www.ematech.sk/wp-content/uploads/CDP-Oponice-Mail.jpg
END:VEVENT
BEGIN:VEVENT
DTSTART;TZID=Europe/Bratislava:20230525T090000
DTEND;TZID=Europe/Bratislava:20230525T143000
DTSTAMP:20260425T151912
CREATED:20230919T230701Z
LAST-MODIFIED:20230919T230701Z
UID:10340-1685005200-1685025000@www.ematech.sk
SUMMARY:Deň poľa zameraný na zber krmovín
DESCRIPTION:
URL:https://www.ematech.sk/udalosti/den-pola-zamerany-na-zber-krmovin
LOCATION:Letisko Liptovský Ondrej\, Letisko\, Liptovský Ondrej\, 032 04\, Slovenská republika
ATTACH;FMTTYPE=image/jpeg:https://www.ematech.sk/wp-content/uploads/Liptovsky-Ondrej-Mail.jpg
ORGANIZER;CN="AGRION":MAILTO:agrion@agrion.sk
END:VEVENT
BEGIN:VEVENT
DTSTART;TZID=Europe/Bratislava:20230330T090000
DTEND;TZID=Europe/Bratislava:20230330T150000
DTSTAMP:20260425T151912
CREATED:20230919T230156Z
LAST-MODIFIED:20230919T230156Z
UID:10338-1680166800-1680188400@www.ematech.sk
SUMMARY:Otvorenie servisného strediska Nové Zámky
DESCRIPTION:
URL:https://www.ematech.sk/udalosti/otvorenie-servisneho-strediska-nove-zamky
LOCATION:Servisné stredisko Nové Zámky\, Komárňanskej ceste 9A\, Nové Zámky\, 940 01\, Slovenská republika
ATTACH;FMTTYPE=image/jpeg:https://www.ematech.sk/wp-content/uploads/Ematech_NoveZamky_Servis_01.jpg
END:VEVENT
END:VCALENDAR