BEGIN:VCALENDAR
VERSION:2.0
PRODID:-//Ematech.sk - ECPv6.15.17.1//NONSGML v1.0//EN
CALSCALE:GREGORIAN
METHOD:PUBLISH
X-WR-CALNAME:Ematech.sk
X-ORIGINAL-URL:https://www.ematech.sk
X-WR-CALDESC:Events for Ematech.sk
REFRESH-INTERVAL;VALUE=DURATION:PT1H
X-Robots-Tag:noindex
X-PUBLISHED-TTL:PT1H
BEGIN:VTIMEZONE
TZID:Europe/Bratislava
BEGIN:DAYLIGHT
TZOFFSETFROM:+0100
TZOFFSETTO:+0200
TZNAME:CEST
DTSTART:20250330T010000
END:DAYLIGHT
BEGIN:STANDARD
TZOFFSETFROM:+0200
TZOFFSETTO:+0100
TZNAME:CET
DTSTART:20251026T010000
END:STANDARD
BEGIN:DAYLIGHT
TZOFFSETFROM:+0100
TZOFFSETTO:+0200
TZNAME:CEST
DTSTART:20260329T010000
END:DAYLIGHT
BEGIN:STANDARD
TZOFFSETFROM:+0200
TZOFFSETTO:+0100
TZNAME:CET
DTSTART:20261025T010000
END:STANDARD
BEGIN:DAYLIGHT
TZOFFSETFROM:+0100
TZOFFSETTO:+0200
TZNAME:CEST
DTSTART:20270328T010000
END:DAYLIGHT
BEGIN:STANDARD
TZOFFSETFROM:+0200
TZOFFSETTO:+0100
TZNAME:CET
DTSTART:20271031T010000
END:STANDARD
END:VTIMEZONE
BEGIN:VEVENT
DTSTART;TZID=Europe/Bratislava:20260325T100000
DTEND;TZID=Europe/Bratislava:20260325T140000
DTSTAMP:20260425T000617
CREATED:20260323T112750Z
LAST-MODIFIED:20260323T112750Z
UID:19301-1774432800-1774447200@www.ematech.sk
SUMMARY:Jarný deň poľa
DESCRIPTION:Vážení priatelia a obchodní partneri\, \njar je už za dverami a to znamená len jedno – je čas vytiahnuť techniku tam\, kam patrí. Spoločne s tímami z EMATECH\, Agricon a AGRO HRÁDOK by sme vás radi pozvali na náš Jarný deň poľa\, kde si v neformálnej atmosfére ukážeme\, čo dokážu moderné stroje v reálnych podmienkach.\nPríďte si s nami vypiť kávu\, podebatovať o tom\, čo nás v tejto sezóne čaká\, a hlavne si naživo pozrieť techniku priamo v akcii. \nNa čo sa môžete tešiť?\n09:30 – 10:00 Registrácia účastníkov\n10:00 – 10:30 Oficiálne privítanie hostí\n10:30 – 11:30 Prezentácia techniky HE-VA a univerzálneho rozmetadla ANNABURGER\n11:30 – 12:30 Prezentácia riešení pôdnych máp a presného vápnenia (Agricon s.r.o.)\n12:30 – 14:00 Občerstvenie a individuálne ukážky strojov \nStroje\, ktoré uvidíte v zábere\nPripravili sme pre vás tieto nadupané súpravy: \nDeutz-Fahr 9340 TTV v spojení s univerzálnym rozmetadlom Annaburger HTS 21.04\nDeutz-Fahr 7250 TTV s kombinovaným kypričom HE-VA Terra-Dan 6\nDeutz-Fahr 8280 TTV s radličkovým kypričom HE-VA Euro-Tiller 6\nDeutz-Fahr 6170 RC s prstovými bránami HE-VA Weeder HD 12\nDeutz-Fahr 6170 a radličkový kyprič HE-VA Triple-Tiller 3\nteleskopický manipulátor MERLO TF 35.7\nPoľné valce HE-VA Tip-Roller 5\,4\nPresné rozmetadlo Vicon RO EDW \nTešíme sa na vás\, na vaše otázky a na poriadny deň strávený na čerstvom vzduchu! \nAk by ste sa potrebovali niečo opýtať\, neváhajte zavolať:\nMarián Bábin\nObchodný zástupca\nEmail: juh@ematech.sk\nTelefón: 0917 868 460 \n\n		\n		\n			\n				\n			\n			\n				\n			\n			\n				\n			\n			\n				\n			\n			\n				\n			\n			\n				\n			\n		\n\n 
URL:https://www.ematech.sk/udalosti/jarny-den-pola-2
LOCATION:Nitriansky Hrádok\, Hlavná 92/3669\, Nitriansky Hrádok\, 942 01\, Slovakia (Slovak Republic)
END:VEVENT
END:VCALENDAR